BEGIN:VCALENDAR
VERSION:2.0
PRODID:-//Intermezzo Promusic - ECPv6.15.20//NONSGML v1.0//EN
CALSCALE:GREGORIAN
METHOD:PUBLISH
X-ORIGINAL-URL:https://intermezzo-promusic.com
X-WR-CALDESC:Eventos para Intermezzo Promusic
REFRESH-INTERVAL;VALUE=DURATION:PT1H
X-Robots-Tag:noindex
X-PUBLISHED-TTL:PT1H
BEGIN:VTIMEZONE
TZID:Europe/Madrid
BEGIN:DAYLIGHT
TZOFFSETFROM:+0100
TZOFFSETTO:+0200
TZNAME:CEST
DTSTART:20240331T010000
END:DAYLIGHT
BEGIN:STANDARD
TZOFFSETFROM:+0200
TZOFFSETTO:+0100
TZNAME:CET
DTSTART:20241027T010000
END:STANDARD
BEGIN:DAYLIGHT
TZOFFSETFROM:+0100
TZOFFSETTO:+0200
TZNAME:CEST
DTSTART:20250330T010000
END:DAYLIGHT
BEGIN:STANDARD
TZOFFSETFROM:+0200
TZOFFSETTO:+0100
TZNAME:CET
DTSTART:20251026T010000
END:STANDARD
BEGIN:DAYLIGHT
TZOFFSETFROM:+0100
TZOFFSETTO:+0200
TZNAME:CEST
DTSTART:20260329T010000
END:DAYLIGHT
BEGIN:STANDARD
TZOFFSETFROM:+0200
TZOFFSETTO:+0100
TZNAME:CET
DTSTART:20261025T010000
END:STANDARD
END:VTIMEZONE
BEGIN:VEVENT
DTSTART;TZID=Europe/Madrid:20250329T193000
DTEND;TZID=Europe/Madrid:20250329T193000
DTSTAMP:20260422T193945
CREATED:20240430T074947Z
LAST-MODIFIED:20240430T074947Z
UID:6632-1743276600-1743276600@intermezzo-promusic.com
SUMMARY:Giovanna d'Arco
DESCRIPTION:Giovanna d’Arco\, Giuseppe Verdi \nProducción de Teatro dell’Opera di Roma\, Palau de les Arts Reina Sofía \nDirección musical: Lukasz Borowicz\nDirección de escena y coreografía: Davide Livermore \nOrquesta Sinfónica de Tenerife\nCoro Ópera de Tenerife-Intermezzo\nBallet \nReparto \nGiovanna d’Arco: Yolanda Auyanet\nCarlo VII: Airam Hernández\nGiacomo: Juan Jesús Rodríguez
URL:https://intermezzo-promusic.com/agenda/giovanna-darco/2025-03-29/
LOCATION:Auditorio de Tenerife\, Avda de la Constitución 1\, Santa Cruz de Tenerife\, Islas Canarias\, 38003\, España
ATTACH;FMTTYPE=image/jpeg:https://intermezzo-promusic.com/wp-content/uploads/2024/04/Giovanna-d-arco-OK.jpg
END:VEVENT
BEGIN:VEVENT
DTSTART;TZID=Europe/Madrid:20250327T193000
DTEND;TZID=Europe/Madrid:20250327T193000
DTSTAMP:20260422T193945
CREATED:20240430T074947Z
LAST-MODIFIED:20240430T074947Z
UID:6631-1743103800-1743103800@intermezzo-promusic.com
SUMMARY:Giovanna d'Arco
DESCRIPTION:Giovanna d’Arco\, Giuseppe Verdi \nProducción de Teatro dell’Opera di Roma\, Palau de les Arts Reina Sofía \nDirección musical: Lukasz Borowicz\nDirección de escena y coreografía: Davide Livermore \nOrquesta Sinfónica de Tenerife\nCoro Ópera de Tenerife-Intermezzo\nBallet \nReparto \nGiovanna d’Arco: Yolanda Auyanet\nCarlo VII: Airam Hernández\nGiacomo: Juan Jesús Rodríguez
URL:https://intermezzo-promusic.com/agenda/giovanna-darco/2025-03-27/
LOCATION:Auditorio de Tenerife\, Avda de la Constitución 1\, Santa Cruz de Tenerife\, Islas Canarias\, 38003\, España
ATTACH;FMTTYPE=image/jpeg:https://intermezzo-promusic.com/wp-content/uploads/2024/04/Giovanna-d-arco-OK.jpg
END:VEVENT
BEGIN:VEVENT
DTSTART;TZID=Europe/Madrid:20250325T193000
DTEND;TZID=Europe/Madrid:20250325T193000
DTSTAMP:20260422T193945
CREATED:20240430T074947Z
LAST-MODIFIED:20240430T074947Z
UID:6627-1742931000-1742931000@intermezzo-promusic.com
SUMMARY:Giovanna d'Arco
DESCRIPTION:Giovanna d’Arco\, Giuseppe Verdi \nProducción de Teatro dell’Opera di Roma\, Palau de les Arts Reina Sofía \nDirección musical: Lukasz Borowicz\nDirección de escena y coreografía: Davide Livermore \nOrquesta Sinfónica de Tenerife\nCoro Ópera de Tenerife-Intermezzo\nBallet \nReparto \nGiovanna d’Arco: Yolanda Auyanet\nCarlo VII: Airam Hernández\nGiacomo: Juan Jesús Rodríguez
URL:https://intermezzo-promusic.com/agenda/giovanna-darco/2025-03-25/
LOCATION:Auditorio de Tenerife\, Avda de la Constitución 1\, Santa Cruz de Tenerife\, Islas Canarias\, 38003\, España
ATTACH;FMTTYPE=image/jpeg:https://intermezzo-promusic.com/wp-content/uploads/2024/04/Giovanna-d-arco-OK.jpg
END:VEVENT
END:VCALENDAR