BEGIN:VCALENDAR
VERSION:2.0
PRODID:-//Intermezzo Promusic - ECPv6.15.20//NONSGML v1.0//EN
CALSCALE:GREGORIAN
METHOD:PUBLISH
X-WR-CALNAME:Intermezzo Promusic
X-ORIGINAL-URL:https://intermezzo-promusic.com
X-WR-CALDESC:Eventos para Intermezzo Promusic
REFRESH-INTERVAL;VALUE=DURATION:PT1H
X-Robots-Tag:noindex
X-PUBLISHED-TTL:PT1H
BEGIN:VTIMEZONE
TZID:Europe/Madrid
BEGIN:DAYLIGHT
TZOFFSETFROM:+0100
TZOFFSETTO:+0200
TZNAME:CEST
DTSTART:20240331T010000
END:DAYLIGHT
BEGIN:STANDARD
TZOFFSETFROM:+0200
TZOFFSETTO:+0100
TZNAME:CET
DTSTART:20241027T010000
END:STANDARD
BEGIN:DAYLIGHT
TZOFFSETFROM:+0100
TZOFFSETTO:+0200
TZNAME:CEST
DTSTART:20250330T010000
END:DAYLIGHT
BEGIN:STANDARD
TZOFFSETFROM:+0200
TZOFFSETTO:+0100
TZNAME:CET
DTSTART:20251026T010000
END:STANDARD
BEGIN:DAYLIGHT
TZOFFSETFROM:+0100
TZOFFSETTO:+0200
TZNAME:CEST
DTSTART:20260329T010000
END:DAYLIGHT
BEGIN:STANDARD
TZOFFSETFROM:+0200
TZOFFSETTO:+0100
TZNAME:CET
DTSTART:20261025T010000
END:STANDARD
END:VTIMEZONE
BEGIN:VEVENT
DTSTART;TZID=Europe/Madrid:20251220T190000
DTEND;TZID=Europe/Madrid:20251220T170000
DTSTAMP:20260423T184541
CREATED:20250508T135524Z
LAST-MODIFIED:20250508T135524Z
UID:7355-1766257200-1766250000@intermezzo-promusic.com
SUMMARY:Rigoletto
DESCRIPTION:Rigoletto; Giuseppe Verdi \nNueva producción de la Ópera de Oviedo \nDirección musical: Óliver Díaz\nDirección de escena: Susana Gómez\nDiseño de escenografía: Ricardo Sánchez Cuerda\nDiseño de vestuario: Gabriela Salaverri\nDirección del coro: Pablo Moras \nOrquesta Sinfónica del Principado de Asturias\nCoro Titular de la Ópera de Oviedo (Coro Intermezzo) \n  \nEl duque de Mantua: Celso Albelo; Juan Noval-Moro\nRigoletto: Ernesto Petti; Gerardo Bullón\nGilda: Alexandra Nowakowski; Ruth Terán\nSparafucile: Roberto Scandiuzzi\nMaddalena: Sandra Ferrández; María Heres\nEl conde de Monterone: Gianfranco Montresor; Francisco Sierra\nMarullo: Gabriel Alonso\nMatteo Borsa: Francisco Cruz\nEl conde de Ceprano\, Ujier: Ángel Simón\nLa condesa de Ceprano\, Giovanna: Nerea González
URL:https://intermezzo-promusic.com/agenda/rigoletto/2025-12-20/
LOCATION:Teatro Campoamor Oviedo\, C. Pelayo\, 3\, Oviedo\, Asturias\, 33003\, España
ATTACH;FMTTYPE=image/jpeg:https://intermezzo-promusic.com/wp-content/uploads/2025/05/3-Rigoletto.jpg
END:VEVENT
BEGIN:VEVENT
DTSTART;TZID=Europe/Madrid:20251219T193000
DTEND;TZID=Europe/Madrid:20251219T193000
DTSTAMP:20260423T184541
CREATED:20250508T135523Z
LAST-MODIFIED:20250508T135523Z
UID:7354-1766172600-1766172600@intermezzo-promusic.com
SUMMARY:Rigoletto
DESCRIPTION:Rigoletto; Giuseppe Verdi \nNueva producción de la Ópera de Oviedo \nDirección musical: Óliver Díaz\nDirección de escena: Susana Gómez\nDiseño de escenografía: Ricardo Sánchez Cuerda\nDiseño de vestuario: Gabriela Salaverri\nDirección del coro: Pablo Moras \nOrquesta Sinfónica del Principado de Asturias\nCoro Titular de la Ópera de Oviedo (Coro Intermezzo) \n  \nEl duque de Mantua: Celso Albelo; Juan Noval-Moro\nRigoletto: Ernesto Petti; Gerardo Bullón\nGilda: Alexandra Nowakowski; Ruth Terán\nSparafucile: Roberto Scandiuzzi\nMaddalena: Sandra Ferrández; María Heres\nEl conde de Monterone: Gianfranco Montresor; Francisco Sierra\nMarullo: Gabriel Alonso\nMatteo Borsa: Francisco Cruz\nEl conde de Ceprano\, Ujier: Ángel Simón\nLa condesa de Ceprano\, Giovanna: Nerea González
URL:https://intermezzo-promusic.com/agenda/rigoletto/2025-12-19/
LOCATION:Teatro Campoamor Oviedo\, C. Pelayo\, 3\, Oviedo\, Asturias\, 33003\, España
ATTACH;FMTTYPE=image/jpeg:https://intermezzo-promusic.com/wp-content/uploads/2025/05/3-Rigoletto.jpg
END:VEVENT
BEGIN:VEVENT
DTSTART;TZID=Europe/Madrid:20251217T193000
DTEND;TZID=Europe/Madrid:20251217T193000
DTSTAMP:20260423T184541
CREATED:20250508T135523Z
LAST-MODIFIED:20250508T135523Z
UID:7353-1765999800-1765999800@intermezzo-promusic.com
SUMMARY:Rigoletto
DESCRIPTION:Rigoletto; Giuseppe Verdi \nNueva producción de la Ópera de Oviedo \nDirección musical: Óliver Díaz\nDirección de escena: Susana Gómez\nDiseño de escenografía: Ricardo Sánchez Cuerda\nDiseño de vestuario: Gabriela Salaverri\nDirección del coro: Pablo Moras \nOrquesta Sinfónica del Principado de Asturias\nCoro Titular de la Ópera de Oviedo (Coro Intermezzo) \n  \nEl duque de Mantua: Celso Albelo; Juan Noval-Moro\nRigoletto: Ernesto Petti; Gerardo Bullón\nGilda: Alexandra Nowakowski; Ruth Terán\nSparafucile: Roberto Scandiuzzi\nMaddalena: Sandra Ferrández; María Heres\nEl conde de Monterone: Gianfranco Montresor; Francisco Sierra\nMarullo: Gabriel Alonso\nMatteo Borsa: Francisco Cruz\nEl conde de Ceprano\, Ujier: Ángel Simón\nLa condesa de Ceprano\, Giovanna: Nerea González
URL:https://intermezzo-promusic.com/agenda/rigoletto/2025-12-17/
LOCATION:Teatro Campoamor Oviedo\, C. Pelayo\, 3\, Oviedo\, Asturias\, 33003\, España
ATTACH;FMTTYPE=image/jpeg:https://intermezzo-promusic.com/wp-content/uploads/2025/05/3-Rigoletto.jpg
END:VEVENT
BEGIN:VEVENT
DTSTART;TZID=Europe/Madrid:20251214T190000
DTEND;TZID=Europe/Madrid:20251214T170000
DTSTAMP:20260423T184541
CREATED:20250508T135523Z
LAST-MODIFIED:20250508T135523Z
UID:7352-1765738800-1765731600@intermezzo-promusic.com
SUMMARY:Rigoletto
DESCRIPTION:Rigoletto; Giuseppe Verdi \nNueva producción de la Ópera de Oviedo \nDirección musical: Óliver Díaz\nDirección de escena: Susana Gómez\nDiseño de escenografía: Ricardo Sánchez Cuerda\nDiseño de vestuario: Gabriela Salaverri\nDirección del coro: Pablo Moras \nOrquesta Sinfónica del Principado de Asturias\nCoro Titular de la Ópera de Oviedo (Coro Intermezzo) \n  \nEl duque de Mantua: Celso Albelo; Juan Noval-Moro\nRigoletto: Ernesto Petti; Gerardo Bullón\nGilda: Alexandra Nowakowski; Ruth Terán\nSparafucile: Roberto Scandiuzzi\nMaddalena: Sandra Ferrández; María Heres\nEl conde de Monterone: Gianfranco Montresor; Francisco Sierra\nMarullo: Gabriel Alonso\nMatteo Borsa: Francisco Cruz\nEl conde de Ceprano\, Ujier: Ángel Simón\nLa condesa de Ceprano\, Giovanna: Nerea González
URL:https://intermezzo-promusic.com/agenda/rigoletto/2025-12-14/
LOCATION:Teatro Campoamor Oviedo\, C. Pelayo\, 3\, Oviedo\, Asturias\, 33003\, España
ATTACH;FMTTYPE=image/jpeg:https://intermezzo-promusic.com/wp-content/uploads/2025/05/3-Rigoletto.jpg
END:VEVENT
BEGIN:VEVENT
DTSTART;TZID=Europe/Madrid:20251212T193000
DTEND;TZID=Europe/Madrid:20251212T193000
DTSTAMP:20260423T184541
CREATED:20250508T135522Z
LAST-MODIFIED:20250508T135522Z
UID:7347-1765567800-1765567800@intermezzo-promusic.com
SUMMARY:Rigoletto
DESCRIPTION:Rigoletto; Giuseppe Verdi \nNueva producción de la Ópera de Oviedo \nDirección musical: Óliver Díaz\nDirección de escena: Susana Gómez\nDiseño de escenografía: Ricardo Sánchez Cuerda\nDiseño de vestuario: Gabriela Salaverri\nDirección del coro: Pablo Moras \nOrquesta Sinfónica del Principado de Asturias\nCoro Titular de la Ópera de Oviedo (Coro Intermezzo) \n  \nEl duque de Mantua: Celso Albelo; Juan Noval-Moro\nRigoletto: Ernesto Petti; Gerardo Bullón\nGilda: Alexandra Nowakowski; Ruth Terán\nSparafucile: Roberto Scandiuzzi\nMaddalena: Sandra Ferrández; María Heres\nEl conde de Monterone: Gianfranco Montresor; Francisco Sierra\nMarullo: Gabriel Alonso\nMatteo Borsa: Francisco Cruz\nEl conde de Ceprano\, Ujier: Ángel Simón\nLa condesa de Ceprano\, Giovanna: Nerea González
URL:https://intermezzo-promusic.com/agenda/rigoletto/2025-12-12/
LOCATION:Teatro Campoamor Oviedo\, C. Pelayo\, 3\, Oviedo\, Asturias\, 33003\, España
ATTACH;FMTTYPE=image/jpeg:https://intermezzo-promusic.com/wp-content/uploads/2025/05/3-Rigoletto.jpg
END:VEVENT
END:VCALENDAR