BEGIN:VCALENDAR
VERSION:2.0
PRODID:-//Intermezzo Promusic - ECPv6.15.20//NONSGML v1.0//EN
CALSCALE:GREGORIAN
METHOD:PUBLISH
X-ORIGINAL-URL:https://intermezzo-promusic.com/en/
X-WR-CALDESC:Events for Intermezzo Promusic
REFRESH-INTERVAL;VALUE=DURATION:PT1H
X-Robots-Tag:noindex
X-PUBLISHED-TTL:PT1H
BEGIN:VTIMEZONE
TZID:Europe/Madrid
BEGIN:DAYLIGHT
TZOFFSETFROM:+0100
TZOFFSETTO:+0200
TZNAME:CEST
DTSTART:20240331T010000
END:DAYLIGHT
BEGIN:STANDARD
TZOFFSETFROM:+0200
TZOFFSETTO:+0100
TZNAME:CET
DTSTART:20241027T010000
END:STANDARD
BEGIN:DAYLIGHT
TZOFFSETFROM:+0100
TZOFFSETTO:+0200
TZNAME:CEST
DTSTART:20250330T010000
END:DAYLIGHT
BEGIN:STANDARD
TZOFFSETFROM:+0200
TZOFFSETTO:+0100
TZNAME:CET
DTSTART:20251026T010000
END:STANDARD
BEGIN:DAYLIGHT
TZOFFSETFROM:+0100
TZOFFSETTO:+0200
TZNAME:CEST
DTSTART:20260329T010000
END:DAYLIGHT
BEGIN:STANDARD
TZOFFSETFROM:+0200
TZOFFSETTO:+0100
TZNAME:CET
DTSTART:20261025T010000
END:STANDARD
END:VTIMEZONE
BEGIN:VEVENT
DTSTART;TZID=Europe/Madrid:20251219T193000
DTEND;TZID=Europe/Madrid:20251219T193000
DTSTAMP:20260423T165923
CREATED:20250822T065135Z
LAST-MODIFIED:20250822T065135Z
UID:7595-1766172600-1766172600@intermezzo-promusic.com
SUMMARY:Concierto Novena Sinfonía de Beethoven
DESCRIPTION:Sinfonía nº 9 en re menor\, «Coral»\, op. 125\, Ludwig van Beethoven \nDirector: Pablo González \nSinfónica de Tenerife\nCoro Titular Ópera de Tenerife-Intermezzo\n(Chorus master:   ) \nMaría Espada (soprano)\nCristina Faus (contralto)\nAiram Hernández (tenor)\nSebastiá Peris (barítono) \n 
URL:https://intermezzo-promusic.com/en/agenda/concierto-novena-sinfonia-de-beethoven/2025-12-19/
LOCATION:Auditorio de Tenerife\, Avda de la Constitución 1\, Santa Cruz de Tenerife\, Islas Canarias\, 38003\, España
END:VEVENT
BEGIN:VEVENT
DTSTART;TZID=Europe/Madrid:20251218T193000
DTEND;TZID=Europe/Madrid:20251218T193000
DTSTAMP:20260423T165923
CREATED:20250822T065135Z
LAST-MODIFIED:20250822T065135Z
UID:7593-1766086200-1766086200@intermezzo-promusic.com
SUMMARY:Concierto Novena Sinfonía de Beethoven
DESCRIPTION:Sinfonía nº 9 en re menor\, «Coral»\, op. 125\, Ludwig van Beethoven \nDirector: Pablo González \nSinfónica de Tenerife\nCoro Titular Ópera de Tenerife-Intermezzo\n(Chorus master:   ) \nMaría Espada (soprano)\nCristina Faus (contralto)\nAiram Hernández (tenor)\nSebastiá Peris (barítono) \n 
URL:https://intermezzo-promusic.com/en/agenda/concierto-novena-sinfonia-de-beethoven/2025-12-18/
LOCATION:Auditorio de Tenerife\, Avda de la Constitución 1\, Santa Cruz de Tenerife\, Islas Canarias\, 38003\, España
ATTACH;FMTTYPE=image/jpeg:https://intermezzo-promusic.com/wp-content/uploads/2025/08/beethoven3-copia.jpg
END:VEVENT
END:VCALENDAR